BEGIN:VCALENDAR
VERSION:2.0
PRODID:-//Friday Arts Project - ECPv6.15.20//NONSGML v1.0//EN
CALSCALE:GREGORIAN
METHOD:PUBLISH
X-WR-CALNAME:Friday Arts Project
X-ORIGINAL-URL:https://www.fridayartsproject.org
X-WR-CALDESC:Events for Friday Arts Project
REFRESH-INTERVAL;VALUE=DURATION:PT1H
X-Robots-Tag:noindex
X-PUBLISHED-TTL:PT1H
BEGIN:VTIMEZONE
TZID:America/New_York
BEGIN:DAYLIGHT
TZOFFSETFROM:-0500
TZOFFSETTO:-0400
TZNAME:EDT
DTSTART:20230312T070000
END:DAYLIGHT
BEGIN:STANDARD
TZOFFSETFROM:-0400
TZOFFSETTO:-0500
TZNAME:EST
DTSTART:20231105T060000
END:STANDARD
BEGIN:DAYLIGHT
TZOFFSETFROM:-0500
TZOFFSETTO:-0400
TZNAME:EDT
DTSTART:20240310T070000
END:DAYLIGHT
BEGIN:STANDARD
TZOFFSETFROM:-0400
TZOFFSETTO:-0500
TZNAME:EST
DTSTART:20241103T060000
END:STANDARD
BEGIN:DAYLIGHT
TZOFFSETFROM:-0500
TZOFFSETTO:-0400
TZNAME:EDT
DTSTART:20250309T070000
END:DAYLIGHT
BEGIN:STANDARD
TZOFFSETFROM:-0400
TZOFFSETTO:-0500
TZNAME:EST
DTSTART:20251102T060000
END:STANDARD
END:VTIMEZONE
BEGIN:VEVENT
DTSTART;VALUE=DATE:20240501
DTEND;VALUE=DATE:20240622
DTSTAMP:20260421T164253
CREATED:20240416T193920Z
LAST-MODIFIED:20240416T194655Z
UID:99042-1714521600-1719014399@www.fridayartsproject.org
SUMMARY:Regarding Facets Exhibit
DESCRIPTION:RECEPTION: MAY 9\nworks by Veda Saravanan & Felicia VanBork\nEXHIBIT OVERVIEW\nWith a mix of real and abstract influences Regarding Facets portrays human forms and faces in ways beyond what the eye perceives. Veda Saravanan’s cubist inspired figures and Felicia van Bork’s brush-stroked faces invite the viewer to see more than merely line and color. \nEXHIBIT STATEMENTS\nVEDA SARAVANAN\nThis body of work is inspired by Picasso ‘s Cubism. He felt that we do not see an object from one angle or perspective\, but rather from many angles selected by sight and movement.  \nI like the natural mixing of colors\, overlapping on each other and then forming different shapes and colors. Cubism is known for its deconstructed\, geometric representations\, and its complete form of abstraction. \nIn addition to the cubic formation of different geometric shapes\, this collection is also figurative. I like to narrate women’s moods and movements. \nI never limit myself to one medium or style. I’m inspired by colors and shapes and all kinds of forms. In my art\, I include many angles and lines\, but make sure there is connectivity between the lines.  \nAs an artist I focus on form and color\, this allows me to be between realism and abstract. \nARTIST BIO Veda Saravanan\, has always been self taught and experimental with her color palette. She doesn’t hesitate to let her colors speak to her and bring brightness to her different forms of art. Veda loves to see the surprise element in the outcome of using different colors and designs. Traveling has really impacted the different ways she uses colors and culture in her work. She has been traveling since a young age and continues do so as a passion towards her art. Her distinctive style and cultural upbringing allowed her to become the artist that she is today. She has been all over the world and it continues to inspire her work. \nFELICIA VANBORK\nFelicia van Bork was drawing portraits before she was two. Today\, she is an artist who competes against herself to be “not boring.” In her search to document her world in a way that is accurate and expressive\, she pushes herself to use the minimum number of brushstrokes\, paint the most accurate likeness possible\, and dare to incorporate the most surprising and fresh mark-making she can.  \nHer several interrelated bodies of work all investigate the tension between representation and experience; she creates images that combine the appearance of an observed subject with the experience of responding to that subject. \nARTIST BIO Felicia van Bork’s paintings\, both abstract and representational\, are in many private and public collections. She is also known for in her “How To” series of collage work\, which is featured in the permanent collection of the Mint Museum in Charlotte\, NC\, and which took her to the American Academy in Rome as Visiting Artist in 2017 and the Virginia Center for the Creative Arts in 2022. Her love of color and teaching come into play at Charlotte’s McColl Center as well. There\, she is the Coordinator of the Printmaking Lab and co-host of Draw McColl Center\, a weekly open life drawing studio. She founded the international online portrait group\, @portraitpalsgroup. She teaches printmaking workshops at McColl Center\, and private classes including her popular Liberated Brush workshop. Her “Heads” series of encaustic portraits earned her a spot in MassArt’s MFA program at the Fine Arts Work Center in Provincetown\, where she graduated in 2011. She was the Art Director at Columbia University’s Columbia Scholastic Press Association and went on to be a professor in the art departments of universities and colleges including Penn State\, The Behrend College; Central Piedmont Community College; Columbia University; UNC Charlotte; and Davidson College\, teaching graphic design\, painting\, drawing\, life drawing and portraiture. Among many honors and residency fellowships\, she was the Featured Artist at Central Piedmont’s Sensoria arts festival in 2018. Her work has also been selected for representation at the National Portrait Gallery.
URL:https://www.fridayartsproject.org/event/regarding-facets-exhibit/
LOCATION:Courtroom Gallery\, at the Gettys Center 201 E Main St\, 2nd Floor Hallway\, Rock Hill\, SC\, 29730\, United States
CATEGORIES:Courtroom Gallery,Exhibit
ATTACH;FMTTYPE=image/jpeg:https://www.fridayartsproject.org/wp-content/uploads/2024/04/Regarding_Facets-IMAGESonly-scaled.jpg
ORGANIZER;CN="Courtroom Gallery":MAILTO:courtroomgallery@fridayartsproject.org
END:VEVENT
END:VCALENDAR