BEGIN:VCALENDAR
VERSION:2.0
PRODID:-//Friday Arts Project - ECPv6.15.20//NONSGML v1.0//EN
CALSCALE:GREGORIAN
METHOD:PUBLISH
X-ORIGINAL-URL:https://www.fridayartsproject.org
X-WR-CALDESC:Events for Friday Arts Project
REFRESH-INTERVAL;VALUE=DURATION:PT1H
X-Robots-Tag:noindex
X-PUBLISHED-TTL:PT1H
BEGIN:VTIMEZONE
TZID:America/New_York
BEGIN:DAYLIGHT
TZOFFSETFROM:-0500
TZOFFSETTO:-0400
TZNAME:EDT
DTSTART:20220313T070000
END:DAYLIGHT
BEGIN:STANDARD
TZOFFSETFROM:-0400
TZOFFSETTO:-0500
TZNAME:EST
DTSTART:20221106T060000
END:STANDARD
BEGIN:DAYLIGHT
TZOFFSETFROM:-0500
TZOFFSETTO:-0400
TZNAME:EDT
DTSTART:20230312T070000
END:DAYLIGHT
BEGIN:STANDARD
TZOFFSETFROM:-0400
TZOFFSETTO:-0500
TZNAME:EST
DTSTART:20231105T060000
END:STANDARD
BEGIN:DAYLIGHT
TZOFFSETFROM:-0500
TZOFFSETTO:-0400
TZNAME:EDT
DTSTART:20240310T070000
END:DAYLIGHT
BEGIN:STANDARD
TZOFFSETFROM:-0400
TZOFFSETTO:-0500
TZNAME:EST
DTSTART:20241103T060000
END:STANDARD
END:VTIMEZONE
BEGIN:VEVENT
DTSTART;TZID=America/New_York:20230914T183000
DTEND;TZID=America/New_York:20230914T183000
DTSTAMP:20260422T032803
CREATED:20230815T191256Z
LAST-MODIFIED:20230815T191313Z
UID:98353-1694716200-1694716200@www.fridayartsproject.org
SUMMARY:Reception: Wavelengths
DESCRIPTION:Join us for a night that celebrates the exhibition: Wavelengths \nEXHIBIT OVERVIEW \nFrom the prism to the curl\, this exhibit showcases work by recent graduates of Winthrop University. Kai’s vivid colors strike the eye while sharp lines bring a calm repetition. Jewel’s varied visuals and rich textures draw you into the deeper meaning behind the pieces.
URL:https://www.fridayartsproject.org/event/reception-wavelengths/
LOCATION:Courtroom Gallery\, at the Gettys Center 201 E Main St\, 2nd Floor Hallway\, Rock Hill\, SC\, 29730\, United States
CATEGORIES:Courtroom Gallery,Reception
ATTACH;FMTTYPE=image/jpeg:https://www.fridayartsproject.org/wp-content/uploads/2023/08/Wavelengths_Art-Edwards_Griffin-1.jpg
ORGANIZER;CN="Courtroom Gallery":MAILTO:courtroomgallery@fridayartsproject.org
END:VEVENT
END:VCALENDAR