BEGIN:VCALENDAR
VERSION:2.0
PRODID:-//Friday Arts Project - ECPv6.15.20//NONSGML v1.0//EN
CALSCALE:GREGORIAN
METHOD:PUBLISH
X-ORIGINAL-URL:https://www.fridayartsproject.org
X-WR-CALDESC:Events for Friday Arts Project
REFRESH-INTERVAL;VALUE=DURATION:PT1H
X-Robots-Tag:noindex
X-PUBLISHED-TTL:PT1H
BEGIN:VTIMEZONE
TZID:America/New_York
BEGIN:DAYLIGHT
TZOFFSETFROM:-0500
TZOFFSETTO:-0400
TZNAME:EDT
DTSTART:20230312T070000
END:DAYLIGHT
BEGIN:STANDARD
TZOFFSETFROM:-0400
TZOFFSETTO:-0500
TZNAME:EST
DTSTART:20231105T060000
END:STANDARD
BEGIN:DAYLIGHT
TZOFFSETFROM:-0500
TZOFFSETTO:-0400
TZNAME:EDT
DTSTART:20240310T070000
END:DAYLIGHT
BEGIN:STANDARD
TZOFFSETFROM:-0400
TZOFFSETTO:-0500
TZNAME:EST
DTSTART:20241103T060000
END:STANDARD
BEGIN:DAYLIGHT
TZOFFSETFROM:-0500
TZOFFSETTO:-0400
TZNAME:EDT
DTSTART:20250309T070000
END:DAYLIGHT
BEGIN:STANDARD
TZOFFSETFROM:-0400
TZOFFSETTO:-0500
TZNAME:EST
DTSTART:20251102T060000
END:STANDARD
END:VTIMEZONE
BEGIN:VEVENT
DTSTART;TZID=America/New_York:20240118T183000
DTEND;TZID=America/New_York:20240118T203000
DTSTAMP:20260421T212809
CREATED:20231229T232854Z
LAST-MODIFIED:20231229T232854Z
UID:98900-1705602600-1705609800@www.fridayartsproject.org
SUMMARY:Reception | Inside Outside Exhibit
DESCRIPTION:Join us for a night that celebrates the exhibition: Inside Outside \nEXHIBIT OVERVIEW \nThe reflective photos of Nicole Driscoll’s series\, “You can’t eat your feelings” and Jinna Kim’s expansive photos in her “Korean Pavilion at World Expo” series summon us to engage internally and with the world around us\, inviting the viewer toward intimate\, communal\, yet personal paths. This is Inside Outside.
URL:https://www.fridayartsproject.org/event/reception-inside-outside-exhibit/
LOCATION:Courtroom Gallery\, at the Gettys Center 201 E Main St\, 2nd Floor Hallway\, Rock Hill\, SC\, 29730\, United States
CATEGORIES:Courtroom Gallery,Reception
ATTACH;FMTTYPE=image/jpeg:https://www.fridayartsproject.org/wp-content/uploads/2023/12/Inside_Outside-images-insta.jpg
ORGANIZER;CN="Courtroom Gallery":MAILTO:courtroomgallery@fridayartsproject.org
END:VEVENT
END:VCALENDAR